BEGIN:VCALENDAR
VERSION:2.0
PRODID:-//CERN//INDICO//EN
BEGIN:VEVENT
SUMMARY:Quantum Initiatives Discussion Group (Bi-Monthly)
DTSTART:20260507T200000Z
DTEND:20260507T210000Z
DTSTAMP:20260421T105000Z
UID:indico-event-198@indico.sanfordlab.org
CONTACT:mick@greatplains.net\;sgranum@sanfordlab.org\;903-571-0892 Mickey\
 ;605-571-2305 Stacie
DESCRIPTION:Speakers: Jaret Heise (SDSTA/SURF)\, Stacie Granum (SDSTA/The 
 Institute)\, MICKEY SLIMP\n\nIn an effort to continue fostering collaborat
 ion and innovation\, we are excited to invite you to join our bi-monthly d
 iscussion group focused on quantum-related initiatives in the Great Plains
  region. This group will provide a platform for ongoing dialogue\, idea ex
 change\, and collaborative projects that will shape the future of Quantum 
 Information Science both in our region and beyond.\nWe encourage all works
 hop participants and other interested parties to join us in these discussi
 ons. Your insights and contributions are invaluable as we work together to
  advance quantum research and initiatives in our region. \n \nZOOM LINK:
  https://kanren.zoom.us/j/4583860607?pwd=YyxLa3x3ZLNJNaathz7uADtUnknnM1.1&
 omn=88282419186\n\nhttps://indico.sanfordlab.org/event/198/
LOCATION:Virtual (Zoom)
URL:https://indico.sanfordlab.org/event/198/
END:VEVENT
END:VCALENDAR
